BEGIN:VCALENDAR
VERSION:2.0
PRODID:icalendar-ruby
CALSCALE:GREGORIAN
METHOD:PUBLISH
BEGIN:VEVENT
DTSTAMP:20260424T042342Z
UID:105-1191330@crossroadslb.com
DTSTART:20260724T190000Z
DTEND:20260727T200000Z
CLASS:PUBLIC
CREATED:20260415T111708
DESCRIPTION:REGISTER BY SUNDAY\, APRIL 26TH - $75/DEPOSIT DUE UPON REGISTER
 ING\nSOCAL STUDENTS SUMMER CAMP AT PINECREST CHRISTIAN CAMP &amp\; CONFERE
 NCE\nJULY 24-27th\nMandatory Parent Meeting - Sunday\, July 12th at 10:30
  am\n 
LAST-MODIFIED:20260415T111708
LOCATION:Pinecrest Christian Camp & Conference
SUMMARY:Youth Summer Camp
URL;VALUE=URI:https://www.crossroadslb.com/events/youth-summer-camp/2026-07
 -24
ATTACH;FILENAME=1.png;FMTTYPE=image/png:https://dq5pwpg1q8ru0.cloudfront.ne
 t/2026/04/15/18/17/08/c03e3e79-a11e-4751-a856-9ddb1747d2e9/1.png
ATTACH;FILENAME=2.png;FMTTYPE=image/png:https://dq5pwpg1q8ru0.cloudfront.ne
 t/2026/04/15/18/17/08/086cf105-bf58-40bf-93ec-55a808318452/2.png
END:VEVENT
END:VCALENDAR
