BEGIN:VCALENDAR
VERSION:2.0
PRODID:icalendar-ruby
CALSCALE:GREGORIAN
METHOD:PUBLISH
BEGIN:VEVENT
DTSTAMP:20260424T042942Z
UID:217-1220707@crossroadslb.com
DTSTART:20260510T170000Z
DTEND:20260510T183000Z
CLASS:PUBLIC
CREATED:20260421T153140
DESCRIPTION:Join us for our United Mother’s Day Service as we come togeth
 er to honor\, celebrate\, and uplift the incredible women in our lives. \n
 It will be a beautiful time of worship\, encouragement\, and community—p
 erfect to bring your family and loved ones. We can’t wait to celebrate w
 ith you!\n~~~~~~~~~~~~~~~~~~~~~~~~~~~~~~~~~~~~~~~~~~~~~~~~~~~~~~~~~~~~~~~~
 ~~~~\nAcompáñanos en nuestro Servicio Unido del Día de las Madres mient
 ras nos reunimos para honrar\, celebrar y bendecir a las increíbles mujer
 es en nuestras vidas. \nSerá un tiempo hermoso de adoración\, ánimo y c
 omunidad—perfecto para traer a tu familia y seres queridos. ¡No podemos
  esperar celebrar contigo!
LAST-MODIFIED:20260421T153140
LOCATION:1900 E. South Street Long Beach\, CA 90805
SUMMARY:Mother's Day United Service
URL;VALUE=URI:https://www.crossroadslb.com/events/mothers-day-united-servic
 e/2026-05-10
ATTACH;FILENAME=Mothers Day United Service (Presentation).png;FMTTYPE=image
 /png:https://dq5pwpg1q8ru0.cloudfront.net/2026/04/21/22/31/40/cae0be2c-3f3
 1-4c08-9910-2ecaaf570b3e/Mothers%20Day%20United%20Service%20(Presentation)
 .png
END:VEVENT
END:VCALENDAR
