BEGIN:VCALENDAR
VERSION:2.0
PRODID:icalendar-ruby
CALSCALE:GREGORIAN
METHOD:PUBLISH
BEGIN:VEVENT
DTSTAMP:20260424T200806Z
UID:136-1233864@crossroadslb.com
DTSTART:20261008T020000Z
DTEND:20261008T033000Z
CLASS:PUBLIC
CREATED:20260424T122040
DESCRIPTION:
LAST-MODIFIED:20260424T122040
LOCATION:1900 E. South Street Long Beach\, CA 90805
SUMMARY:Estudio Biblico Entre Semana
URL;VALUE=URI:https://www.crossroadslb.com/events/estudio-biblico-entre-sem
 ana/2026-10-07
ATTACH;FILENAME=2_20250313_150155_0001.png;FMTTYPE=image/png:https://dq5pwp
 g1q8ru0.cloudfront.net/2025/03/13/22/03/55/cd51c9ec-4691-4869-a0af-f805587
 d0f2a/2_20250313_150155_0001.png
END:VEVENT
END:VCALENDAR
