BEGIN:VCALENDAR
VERSION:2.0
PRODID:icalendar-ruby
CALSCALE:GREGORIAN
METHOD:PUBLISH
BEGIN:VEVENT
DTSTAMP:20260424T151934Z
UID:136-1232311@crossroadslb.com
DTSTART:20260917T020000Z
DTEND:20260917T033000Z
CLASS:PUBLIC
CREATED:20260424T064408
DESCRIPTION:
LAST-MODIFIED:20260424T064408
LOCATION:1900 E. South Street Long Beach\, CA 90805
SUMMARY:Estudio Biblico Entre Semana
URL;VALUE=URI:https://www.crossroadslb.com/events/estudio-biblico-entre-sem
 ana/2026-09-16
ATTACH;FILENAME=2_20250313_150155_0001.png;FMTTYPE=image/png:https://dq5pwp
 g1q8ru0.cloudfront.net/2025/03/13/22/03/55/cd51c9ec-4691-4869-a0af-f805587
 d0f2a/2_20250313_150155_0001.png
END:VEVENT
END:VCALENDAR
